Workbook
Name 事業分類: #REF!
Name 事業分類: #REF!
Name 事業分類: #REF!
Name 事業分類: #REF!
Name 事業分類: #REF!
Name 事業分類: #REF!
Name 事業分類: [1]事業分類・区分!$B$2:$H$2
Name 病床確保料: #REF!

Sheet 様式第１号
B1: 様式第１号（第５条関係）
I3: 文書番号 | L3: ※青色のセルのみ入力してください
I4: 年 月 日
B6: 福岡県知事 殿
G7: 所在地
G8: 法人名
G9: 代表者名
B13: 年度福岡県医療勤務環境DX支援事業費補助金の交付申請書
C16: 標記について、福岡県医療勤務環境DX支援事業費補助金交付要綱第５条の規定により補助金を交付されるよう関係書類を添えて申請する。
C20: 1 | D20: 補助申請額 | F20: 金 | G20: =様式第１号別紙１!J9 -> 0 | I20: 円 | L20: ←自動計算
C22: 2 | D22: 経費所要額調 （様式第１号別紙１）
C24: 3 | D24: 対象経費の支出予定額算出内訳 （様式第1号別紙２）
G28: 担当部署：
G29: 担当者名：
G30: 電話番号：
G31: メールアドレス：

Sheet 様式第１号別紙１
A1: 様式第１号別紙１
A2: 経費所要額調書
H3: 病院名
B5: 総事業費 | C5: 寄付金その他の収入額 | D5: 差引額 | E5: 対象経費の支出予定額 | H5: 基準額 | I5: 選定額 | J5: 補助額
A6: 福岡県医療勤務環境 DX支援事業費補助金 | B6: A | C6: B | D6: C=A-B | E6: D=（対象経費の実支出額×4/5） | H6: E | I6: F =C,D,Eの最少額 | J6: G
B7: 円 | C7: 円 | D7: 円 | E7: ① 円 | F7: ② 割合 | G7: ③＝①×② 円 | H7: 円 | I7: 円 | J7: 円
B8: 200000000 | C8: 0 | D8: =B8-C8 -> 200000000 | E8: 86940000 | F8: 4/5 | G8: =E8/5*4 -> 69552000 | H8: 80000000 | I8: =ROUNDDOWN(MIN(D8,G8,H8), -3) -> 69552000 | J8: =I8 -> 69552000 | K8: 記入例
D9: =B9-C9 -> 0 | E9: =様式第１号別紙２!F81 -> 0 | F9: 4/5 | G9: =E9/5*4 -> 0 | H9: 80000000 | I9: =ROUNDDOWN(MIN(D9,G9,H9), -3) -> 0 | J9: =I9 -> 0
B11: ※青色のセルのみ入力してください（青色のセル以外は自動計算されます）

Sheet 様式第１号別紙２
B1: 様式第１号別紙２
B5: 福岡県医療勤務環境DX支援事業 対象経費の支出予定額算出内訳 | L5: （病院名）
B7: 区 分 | E7: 対 象 経 費 支 出 予 定 額 | G7: 算 出 内 訳
F8: 円
B9: 備品費 | N9: 4
N10: 5
N11: 6
N12: 7
B13: 消耗品費 | N13: 8
N14: 9
N15: 10
N16: 11
B17: 通信運搬費 | N17: 12
N18: 13
N19: 14
N20: 15
B21: 借料及び損料 | N21: 16
N22: 17
N23: 18
N24: 19
B25: 雑役務費 | N25: 20
N26: 21
N27: 22
N28: 23
B29: 委託費 | N29: 24
N30: 25
N31: 26
N32: 27
B33: 諸謝金 | N33: 28
N34: 29
N35: 30
N36: 31
B37: 印刷製本費 | N37: 32
N38: 33
N39: 34
N40: 35
B41: 会議費 | N41: 36
N42: 37
N43: 38
N44: 39
...

Sheet 様式第１号別紙２ (記載例)
B1: 様式第１号別紙２
B5: 福岡県医療勤務環境DX支援事業 対象経費の支出予定額算出内訳 | L5: （病院名） | M5: 〇〇病院
B7: 区 分 | E7: 対 象 経 費 支 出 予 定 額 | G7: 算 出 内 訳
F8: 円
B9: 備品費 | F9: 80000000 | G9: ○○×○＝○○○円 | N9: 4
N10: 5
N11: 6
N12: 7
B13: 消耗品費 | F13: 500000 | G13: ○○×○＝○○○円 | N13: 8
N14: 9
N15: 10
N16: 11
B17: 通信運搬費 | F17: 500000 | G17: ○○等○円 | N17: 12
N18: 13
N19: 14
N20: 15
B21: 借料及び損料 | N21: 16
N22: 17
N23: 18
N24: 19
B25: 雑役務費 | F25: 500000 | G25: ××等×円 | N25: 20
N26: 21
N27: 22
N28: 23
B29: 委託費 | F29: 5000000 | G29: △△等△円 | N29: 24
N30: 25
N31: 26
N32: 27
B33: 諸謝金 | F33: 20000 | G33: ××謝金×円 | N33: 28
F34: 20000 | G34: ××謝金×円 | N34: 29
N35: 30
N36: 31
B37: 印刷製本費 | F37: 100000 | G37: ××等×円 | N37: 32
N38: 33
N39: 34
N40: 35
B41: 会議費 | F41: 300000 | G41: ○○会場使用料○○円 | N41: 36
N42: 37
N43: 38
N44: 39
...

Sheet 様式第２号
B1: 様式第２号（第６条関係）
I3: 文書番号 | L3: ※黄色のセルのみ入力してください
I4: 年 月 日
B6: 福岡県知事 殿
G7: 所在地
G8: 法人名
G9: 代表者名
B13: 年度福岡県医療勤務環境DX支援事業費補助金の変更交付申請書
C16: 標記について、福岡県医療勤務環境DX支援事業費補助金交付要綱第６条の規定により補助金を交付されるよう関係書類を添えて申請する。
C19: 1 | D19: 当初交付決定額 | F19: 金 | I19: 円
C21: 2 | D21: 変更交付申請額 | F21: 金 | G21: =様式第２号別紙１!J9 -> 0 | I21: 円 | L21: ←自動計算
C23: 3 | D23: 経費所要額調 （様式第２号別紙１）
C25: 4 | D25: 対象経費の支出予定額算出内訳 （様式第２号別紙２）
G29: 担当部署：
G30: 担当者名：
G31: 電話番号：
G32: メールアドレス：

Sheet 様式第２号別紙１
A1: 様式第２号別紙１
A2: 経費所要額調書
H3: 病院名
B5: 総事業費 | C5: 寄付金その他の収入額 | D5: 差引額 | E5: 対象経費の支出予定額 | H5: 基準額 | I5: 選定額 | J5: 補助額
A6: 福岡県医療勤務環境 DX支援事業費補助金 | B6: A | C6: B | D6: C=A-B | E6: D=（対象経費の実支出額×4/5） | H6: E | I6: F =C,D,Eの最少額 | J6: G
B7: 円 | C7: 円 | D7: 円 | E7: ① 円 | F7: ② 割合 | G7: ③＝①×② 円 | H7: 円 | I7: 円 | J7: 円
B8: 200000000 | C8: 0 | D8: =B8-C8 -> 200000000 | E8: 86940000 | F8: 4/5 | G8: =E8/5*4 -> 69552000 | H8: 80000000 | I8: =ROUNDDOWN(MIN(D8,G8,H8), -3) -> 69552000 | J8: =I8 -> 69552000 | K8: 記入例
D9: =B9-C9 -> 0 | E9: =様式第２号別紙２!F81 -> 0 | F9: 4/5 | G9: =E9/5*4 -> 0 | H9: 80000000 | I9: =ROUNDDOWN(MIN(D9,G9,H9), -3) -> 0 | J9: =I9 -> 0
B11: ※黄色のセルのみ入力してください（黄色のセル以外は自動計算されます）

Sheet 様式第２号別紙２
B1: 様式第２号別紙２
B5: 福岡県医療勤務環境DX支援事業 対象経費の支出予定額算出内訳 | L5: （病院名）
B7: 区 分 | E7: 対 象 経 費 支 出 予 定 額 | G7: 算 出 内 訳
F8: 円
B9: 備品費 | N9: 4
N10: 5
N11: 6
N12: 7
B13: 消耗品費 | N13: 8
N14: 9
N15: 10
N16: 11
B17: 通信運搬費 | N17: 12
N18: 13
N19: 14
N20: 15
B21: 借料及び損料 | N21: 16
N22: 17
N23: 18
N24: 19
B25: 雑役務費 | N25: 20
N26: 21
N27: 22
N28: 23
B29: 委託費 | N29: 24
N30: 25
N31: 26
N32: 27
B33: 諸謝金 | N33: 28
N34: 29
N35: 30
N36: 31
B37: 印刷製本費 | N37: 32
N38: 33
N39: 34
N40: 35
B41: 会議費 | N41: 36
N42: 37
N43: 38
N44: 39
...

Sheet 様式第２号別紙２ (記載例) 
B1: 様式第２号別紙２
B5: 福岡県医療勤務環境DX支援事業 対象経費の支出予定額算出内訳 | L5: （病院名） | M5: 〇〇病院
B7: 区 分 | E7: 対 象 経 費 支 出 予 定 額 | G7: 算 出 内 訳
F8: 円
B9: 備品費 | F9: 80000000 | G9: ○○×○＝○○○円 | N9: 4
N10: 5
N11: 6
N12: 7
B13: 消耗品費 | F13: 500000 | G13: ○○×○＝○○○円 | N13: 8
N14: 9
N15: 10
N16: 11
B17: 通信運搬費 | F17: 500000 | G17: ○○等○円 | N17: 12
N18: 13
N19: 14
N20: 15
B21: 借料及び損料 | N21: 16
N22: 17
N23: 18
N24: 19
B25: 雑役務費 | F25: 500000 | G25: ××等×円 | N25: 20
N26: 21
N27: 22
N28: 23
B29: 委託費 | F29: 5000000 | G29: △△等△円 | N29: 24
N30: 25
N31: 26
N32: 27
B33: 諸謝金 | F33: 20000 | G33: ××謝金×円 | N33: 28
F34: 20000 | G34: ××謝金×円 | N34: 29
N35: 30
N36: 31
B37: 印刷製本費 | F37: 100000 | G37: ××等×円 | N37: 32
N38: 33
N39: 34
N40: 35
B41: 会議費 | F41: 300000 | G41: ○○会場使用料○○円 | N41: 36
N42: 37
N43: 38
N44: 39
...

Sheet 様式３号
A1: 様式第３号（第９条関係）
G2: 文 書 番 号
G3: 年 月 日 | I3: ※赤色のセルのみ入力してください
A5: 福岡県知事 殿
D6: 所在地
D7: 法人名
D8: 代表者名
A11: 年度福岡県医療勤務環境DX支援事業費補助金の事業実績報告書
A15: 年 月 日 第 号で交付決定を受けた標記について、次のとおり関係書類を添えて報告します。
A20: １ | B20: 補助精算額 | D20: 金 | E20: =MIN(様式第３号別紙１!J9,様式第３号別紙１!K9) -> 0 | G20: 円 | I20: ←自動計算
A22: ２ | B22: 経費所要額清算書 （様式第３号別紙１）
A24: ３ | B24: 対象経費の支出済額算出内訳 （様式第３号別紙２）
D28: 担当部署：
D29: 担当者名：
D30: 電話番号：
D31: メールアドレス：

Sheet 様式第３号別紙１
A1: 様式第３号別紙１
A2: 経費所要額精算書
K3: 病院名
B5: 総事業費 | C5: 寄付金その他の収入額 | D5: 差引額 | E5: 対象経費の支出済額 | H5: 基準額 | I5: 選定額 | J5: 補助所要額 | K5: 交付決定額 | L5: 受入済額 | M5: 差引過不足額
A6: 福岡県医療勤務環境 DX支援事業費補助金 | B6: A | C6: B | D6: C=A-B | E6: D=（対象経費の実支出額×4/5） | H6: E | I6: F =C,D,Eの最少額 | J6: G | K6: J | L6: K | M6: L＝（G,Jの最少額）-K
B7: 円 | C7: 円 | D7: 円 | E7: ① 円 | F7: ② 割合 | G7: ③＝①×② 円 | H7: 円 | I7: 円 | J7: 円 | K7: 円 | L7: 円 | M7: 円
B8: 200000000 | C8: 0 | D8: =B8-C8 -> 200000000 | E8: 86996000 | F8: 4/5 | G8: =E8/5*4 -> 69596800 | H8: 80000000 | I8: =ROUNDDOWN(MIN(D8,G8,H8), -3) -> 69596000 | J8: =I8 -> 69596000 | K8: 69552000 | L8: 0 | M8: =MIN(J8, K8)-L8 -> 69552000
D9: =B9-C9 -> 0 | E9: ='様式第３号別紙２ '!F81 -> 0 | F9: 4/5 | G9: =E9/5*4 -> 0 | H9: 80000000 | I9: =ROUNDDOWN(MIN(D9,G9,H9), -3) -> 0 | J9: =I9 -> 0 | M9: =MIN(J9, K9)-L9 -> 0
B11: ※赤色のセルのみ入力してください（赤色のセル以外は自動計算されます）

Sheet 様式第３号別紙２ 
B1: 様式第３号別紙２
B5: 福岡県医療勤務環境DX支援事業 対象経費の支出済額算出内訳 | L5: （病院名）
B7: 区 分 | E7: 対 象 経 費 支 出 済 額 | G7: 算 出 内 訳
F8: 円
B9: 備品費 | N9: 4
N10: 5
N11: 6
N12: 7
B13: 消耗品費 | N13: 8
N14: 9
N15: 10
N16: 11
B17: 通信運搬費 | N17: 12
N18: 13
N19: 14
N20: 15
B21: 借料及び損料 | N21: 16
N22: 17
N23: 18
N24: 19
B25: 雑役務費 | N25: 20
N26: 21
N27: 22
N28: 23
B29: 委託費 | N29: 24
N30: 25
N31: 26
N32: 27
B33: 諸謝金 | N33: 28
N34: 29
N35: 30
N36: 31
B37: 印刷製本費 | N37: 32
N38: 33
N39: 34
N40: 35
B41: 会議費 | N41: 36
N42: 37
N43: 38
N44: 39
...

Sheet 様式第３号別紙２ (記載例)
B1: 様式第３号別紙２
B5: 福岡県医療勤務環境DX支援事業 対象経費の支出済額算出内訳 | L5: （病院名） | M5: 〇〇病院
B7: 区 分 | E7: 対 象 経 費 支 出 済 額 | G7: 算 出 内 訳
F8: 円
B9: 備品費 | F9: 80000000 | G9: ○○×○＝○○○円 | N9: 4
N10: 5
N11: 6
N12: 7
B13: 消耗品費 | F13: 556000 | G13: ○○×○＝○○○円 | N13: 8
N14: 9
N15: 10
N16: 11
B17: 通信運搬費 | F17: 500000 | G17: ○○等○円 | N17: 12
N18: 13
N19: 14
N20: 15
B21: 借料及び損料 | N21: 16
N22: 17
N23: 18
N24: 19
B25: 雑役務費 | F25: 500000 | G25: ××等×円 | N25: 20
N26: 21
N27: 22
N28: 23
B29: 委託費 | F29: 5000000 | G29: △△等△円 | N29: 24
N30: 25
N31: 26
N32: 27
B33: 諸謝金 | F33: 20000 | G33: ××謝金×円 | N33: 28
F34: 20000 | G34: ××謝金×円 | N34: 29
N35: 30
N36: 31
B37: 印刷製本費 | F37: 100000 | G37: ××等×円 | N37: 32
N38: 33
N39: 34
N40: 35
B41: 会議費 | F41: 300000 | G41: ○○会場使用料○○円 | N41: 36
N42: 37
N43: 38
N44: 39
...

Sheet 様式4号
A1: 様式第４号（第11条関係）
G2: 文 書 番 号
G3: 年 月 日
A5: 福岡県知事 殿
D6: 所在地
D7: 法人名
D8: 代表者名
A11: 年度福岡県医療勤務環境DX支援事業費補助金の概算払請求書
A14: 年 月 日 第 号で交付決定を受けた標記について、次のとおり概算により支払うよう請求します。
A18: １ | B18: 交付決定額 | D18: 金 | G18: 円
A21: ２ | B21: 概算払請求額 | D21: 金 | G21: 円
