Workbook

Sheet 様式１別紙１ 
AE2: 別紙１
B3: 病院内保育所運営事業所要額調書
U4: 補助対象型 | AA4: 整理番号
U5: 設置主体 | AA5: 病院名
B7: 総事業費 | D7: 対象経費の支出予定額 | F7: 基 準 額 | AB7: 選定額 | AD7: 基本額 (D×2/3) | AF7: 所要額
F8: 基 本 額 | L8: 加 算 額 | Z8: 基準額合計
F9: 保育士等人員 | G9: 単価 （円） | H9: 保育料収入相当額 | I9: 負担能力指数による調整率 | J9: 計 | L9: ２４時間保育 | O9: 病児等保育 | R9: 児童保育 | U9: 休日保育 | X9: 計
B10: A | D10: B | L10: 単価 （円） | M10: 運営日数 | N10: 小計 | O10: 単価 （円） | P10: 運営月数 | Q10: 小計 | R10: 単価 （円） | S10: 運営日数 | T10: 小計 | U10: 単価 （円） | V10: 運営日数 | W10: 小計 | Z10: C | AB10: D | AD10: E | AF10: Ｆ
G11: 237400 | J11: =(F11*G11*12-H11)*I11 -> 0 | L11: 30750 | N11: =L11*M11 -> 0 | O11: 278340 | Q11: =O11*P11 -> 0 | R11: 14760 | T11: =R11*S11 -> 0 | U11: 15270 | W11: =U11*V11 -> 0 | X11: =SUM(N11,Q11,T11,W11) -> 0 | Z11: =SUM(J11,X11) -> 0 | AB11: =IF(D11>Z11,Z11,D11) -> 0 | AD11: =ROUNDDOWN(AB11*2/3,0) -> 0 | AF11: =ROUNDDOWN(AD11,-3) -> 0
B14: 保育施設 | F14: 運営が委託の場合 | I14: 共同 利用型 | J14: 委託 | K14: 保 育 時 間 | P14: 月額保育料 | R14: 児童福祉施設最低基準
B15: 保育 施設名 | D15: 開設 年月日 | F15: 委託団体等名称 | H15: 代表 者名 | K15: 保育施設開所時間帯 (24時間表記) | N15: 開所時間 ( 時間 分) | S15: 児童福祉施設最低基準を満たしていない要素
S16: 職員の人数 | T16: 職員の資格 | U16: 面積基準 | V16: 給食室の設置 | W16: その他の設備の設置 | X16: 保育時間・開所時間基準 | Y16: 立地基準 | Z16: その他
K17: 開所 | M17: 閉所
L19: ～ | N19: =IF(K19="","",IF(K19=M19,"24:00",M19-K19)) | P19: 円
L20: ～ | N20: =IF(K20="","",IF(K20=M20,"24:00",M20-K20))
B24: 保育乳幼児数（４月１日現在） | G24: 利用職種 | L24: 保育士等数 | O24: その他 | P24: 保育施設での一般の乳幼児等の保育状況 | Q24: 備考
C25: ０歳 | D25: １，２歳児 | E25: ３歳児 | F25: ４歳児 以上 | G25: 医師 | I25: 看護職員 | J25: その他 | K25: 計 | M25: 保育士数 | N25: 保育士助手数 | O25: 看護師、児童専従職員数
H26: 内女性医師
B29: 人 | C29: 人 | D29: 人 | E29: 人 | F29: 人 | G29: 人 | H29: 人 | I29: 人 | J29: 人 | K29: 人 | L29: 人 | M29: 人 | N29: 人 | O29: 人
B30: =SUM(C30:F30) -> 0 | C30: =様式１別紙３!A31 -> 0 | D30: =様式１別紙３!B31 -> 0 | E30: =様式１別紙３!C31 -> 0 | F30: =様式１別紙３!D31 -> 0 | K30: =G30+I30+J30 -> 0 | L30: =SUM(M30:N30) -> 0 | M30: =様式１別紙３!E22 -> 0 | N30: =様式１別紙３!H22 -> 0 | O30: =様式１別紙３!I22+様式１別紙３!J22 -> 0

Sheet 様式１別紙２
G1: 別紙２
B2: 補助対象型 | E2: 整理番号
B3: 病院名 | E3: 保育施設名
A4: 保 育 士 等 職 員 給 与 費 明 細 書
A5: 職 名 | B5: 氏 名 | C5: 給料・諸手当等 | D5: 賃 金 | E5: 委託料 | F5: 計 | G5: 備 考
C6: 円 | D6: 円 | E6: 円 | F6: 円
G7: 年 月 日
G8: ～ 年 月 日
A51: 合 計 | C51: =SUM(C7:C50) -> 0 | D51: =SUM(D7:D50) -> 0 | E51: =SUM(E7:E50) -> 0 | F51: =SUM(C51:E51) -> 0
A52: （注意事項）
A53: １ 本表は、当該年度の４月１日から翌年の３月３１日までの１年間における給与支給額を記載すること。
A54: ２ 職名欄には、保育士、保育士助手の別を記入すること。また、病児保育を行っている施設で、病児等保育を専門で担当する看護職員については、看護職員と記入すること。
A55: ３ 備考欄は当該年度の給与支給当初月から最終月までの期間を明示すること。
A56: ４ 補助対象型、病院名、保育施設名を記入すること。

Sheet 様式１別紙３
J1: 別紙３
A2: 病 院 内 保 育 所 運 営 事 業 計 画 書
D4: 補助対象型 | G4: 整理番号
D5: 病院名 | G5: 保育施設名
A6: ○保育人員、職員配置状況
A7: 保育人員 | C7: 保育士等職員数 | I7: 看護職員 (病児等保育） | J7: 児童保育専従職員
A8: 保育月 | B8: 保育児童数 | C8: 保育士 | F8: その他の職員（保育士助手）
C9: 常勤 | D9: 非常勤 | E9: 計 | F9: 常勤 | G9: 非常勤 | H9: 計
A10: ４月 | E10: =SUM(C10:D10) -> 0 | H10: =SUM(F10:G10) -> 0
A11: ５月 | E11: =SUM(C11:D11) -> 0 | H11: =SUM(F11:G11) -> 0
A12: ６月 | E12: =SUM(C12:D12) -> 0 | H12: =SUM(F12:G12) -> 0
A13: ７月 | E13: =SUM(C13:D13) -> 0 | H13: =SUM(F13:G13) -> 0
A14: ８月 | E14: =SUM(C14:D14) -> 0 | H14: =SUM(F14:G14) -> 0
A15: ９月 | E15: =SUM(C15:D15) -> 0 | H15: =SUM(F15:G15) -> 0
A16: １０月 | E16: =SUM(C16:D16) -> 0 | H16: =SUM(F16:G16) -> 0
A17: １１月 | E17: =SUM(C17:D17) -> 0 | H17: =SUM(F17:G17) -> 0
A18: １２月 | E18: =SUM(C18:D18) -> 0 | H18: =SUM(F18:G18) -> 0
A19: １月 | E19: =SUM(C19:D19) -> 0 | H19: =SUM(F19:G19) -> 0
A20: ２月 | E20: =SUM(C20:D20) -> 0 | H20: =SUM(F20:G20) -> 0
A21: ３月 | E21: =SUM(C21:D21) -> 0 | H21: =SUM(F21:G21) -> 0
A22: 年間平均 | B22: =ROUND(SUM(B10:B21)/12,1) -> 0 | C22: =ROUND(SUM(C10:C21)/12,1) -> 0 | D22: =ROUND(SUM(D10:D21)/12,1) -> 0 | E22: =SUM(C22:D22) -> 0 | F22: =ROUND(SUM(F10:F21)/12,1) -> 0 | G22: =ROUND(SUM(G10:G21)/12,1) -> 0 | H22: =SUM(F22:G22) -> 0 | I22: =ROUND(SUM(I10:I21)/12,1) -> 0 | J22: =ROUND(SUM(J10:J21)/12,1) -> 0
A23: （注意事項）
A24: １ 保育人員の保育児童数欄は、各月１日現在の補助対象児童数を記入すること。
A25: ２ 保育士等職員数の非常勤職員欄には、常勤換算後の数値を記入すること。
A26: ３ 保育士等職員数のその他の職員には、保育士助手（有資格の保育士以外の者で、直接保育に従事している者）を記入すること。
A27: ４ 看護職員欄には、「病児等保育」を実施している施設について、病児等保育を専門で担当している看護職員の人数を記入すること。
A29: 病院内保育施設利用児童数（ ○○年４月１日現在）
A30: ０歳 | B30: １、２歳 | C30: ３歳 | D30: ４歳以上 | E30: 計
E31: =SUM(A31:D31) -> 0
A32: (注) ○○年４月１日現在の補助対象児童について、年齢別に記入すること（臨時保育児童は除く。）。

Sheet 様式１別紙４
AF1: 別紙４
B2: 誓 約 書
AA3: 年 月 日
B5: 福岡県知事 殿
S7: 所在地
S9: 名称
S11: 代表者氏名
A14: 福岡県病院内保育所運営費補助金の交付申請に当たり、申請者及び下記の役員等(申請者の役員及び当該補助金の交付に係る施設の管理者をいいます。以下同じ。）は、下記のことを誓約します。
A17: この誓約の内容と事実が反することが判明した場合は、当該事実に関して福岡県が行う一切の措置に対して異議の申立てを行いません。
A19: また、福岡県病院内保育所運営費補助金の交付決定後にこの誓約の内容と事実が反することが判明し、交付決定の全部又は一部が取り消された場合には、福岡県に対し、当該補助金の全部又は一部を返還します。
B22: なお、この誓約書の内容について、福岡県が福岡県警察本部に照会することを承諾します。
A24: 記
A26: 1 | B26: 申請者は、暴力団による不当な行為の防止等に関する法律(平成３年法律第７７号。以下「法」という。）第２条第２号に規定する暴力団ではありません。
A29: 2 | B29: 申請者は、法第２条第６号に規定する暴力団員が役員等になっている事業者ではありません。
A31: 3 | B31: 申請者は、暴力団員でなくなった日から５年を経過しない者が役員等になっている事業者ではありません。
A33: 4 | B33: 申請者及び申請者の役員等は、次に掲げる暴力団又は暴力団員と密接な関係を有する事業者ではありません。
A35: （１） | C35: 暴力団員が事業主又は役員に就任している事業者
A36: （２） | C36: 暴力団員が実質的に運営している事業者
A37: （３） | C37: 暴力団員であることを知りながら、その者を雇用し、又は使用している事業者
A38: （４） | C38: 契約の相手方が暴力団員であることを知りながら、その者と商取引に係る契約を締結している事業者
A40: （５） | C40: 暴力団又は暴力団員に対して経済上の利益又は便宜を供与している事業者
A41: （６） | C41: 暴力団又は暴力団員と社会的に非難される関係を有している事業者
A43: 5 | B43: 申請者が実施する事業(事業の準備を含む。）により暴力団を利することとならないようにするとともに、県が実施する暴力団の排除に関する施策に協力します。
A46: 6 | B46: 上記のほか、関係法令を遵守するとともに、暴力団の排除を推進し、県民の安全で平穏な生活の確保及び福岡県における社会経済活動の健全な発展に寄与します。
A49: 役 員 一 覧
B51: 役職名 | H51: (ふ り が な） | R51: 性別 | W51: 住 所 | AB51: 生年月日
G52: 氏 名 | W52: (都道府県名）
H53: （ | P53: ） | AB53: 明 ・ 大 ・ 昭 ・ 平 ・ 令
S54: 男 | T54: ・ | U54: 女
AD55: 年 | AG55: 月 | AJ55: 日
H56: （ | P56: ） | AB56: 明 ・ 大 ・ 昭 ・ 平 ・ 令
S57: 男 | T57: ・ | U57: 女
AD58: 年 | AG58: 月 | AJ58: 日
A59: 役 員 一 覧
B61: 役職名 | H61: (ふ り が な） | R61: 性別 | W61: 住 所 | AB61: 生年月日
G62: 氏 名 | W62: (都道府県名）
H63: （ | P63: ） | AB63: 明 ・ 大 ・ 昭 ・ 平 ・ 令
S64: 男 | T64: ・ | U64: 女
AD65: 年 | AG65: 月 | AJ65: 日
H66: （ | P66: ） | AB66: 明 ・ 大 ・ 昭 ・ 平 ・ 令
...

Sheet 予算書（例）
A2: 歳入歳出予算書抄本
D3: （単位：円）
A4: 歳 入 | C4: 歳 出
A20: 合 計 | B20: =SUM(B5:B19) -> 0 | C20: 合 計 | D20: =SUM(D5:D19) -> 0
A22: 上記予算書は原本と相違ないことを証明します
B23: 年 月 日
B24: 医療法人 ○○会
B25: 理事長 △△ △△
