Workbook

Sheet 様式1
A1: 様式１（第７条関係）
W2: 第 号
W3: 令和８年１２月７日
A5: 福岡県知事 | F5: 殿
N8: （補助事業者） | R8: 住 所
R9: 名 称
R10: 代表者
A13: 令和８年度 福岡県産科医等確保支援事業費補助金交付申請書
A16: 福岡県産科医等確保支援事業費補助金について、福岡県産科医等確保支援事業費補助金交付要綱第７条の規定に基づき、下記のとおり、関係書類を添えて申請します。
A19: 記
A21: １ 申請金額 金 | G21: =IF('1別紙1-2'!H10="","",'1別紙1-2'!H10) | L21: 円
A22: ２ 補助金所要額調（別紙１（補助事業者が市町村の場合は別紙１－１、分娩施設の場合は別紙１－２））
A23: ３ 産科医等確保支援事業計画書（別紙２－１、別紙２－２）
A24: ４ 分娩費用(正常分娩)内訳表（別紙３）
A25: ５ 誓約書（別紙４）
A26: ６ 添付書類
B27: (1) | C27: 分娩手当が明記された就業規則又はこれに類するもの（給与規程、雇用契約等）
B28: (2) | C28: 分娩手当を支給したことを証する賃金台帳又はこれに類するもの
B29: (3) | C29: その他参考となる資料

Sheet 1別紙1-2
A1: 別紙１－２
A2: 補 助 金 所 要 額 調
A5: 施 設 名 | B5: 総事業費 | C5: 寄附金その他の 収入額 | D5: 差引事業費 （(A)－(B)） | E5: 対象経費の 支出予定額 | F5: 基準額 | G5: 選定額 | H5: 県補助所要額
B8: （Ａ） | C8: （Ｂ） | D8: （Ｃ） | E8: （Ｄ） | F8: （Ｅ） | G8: （Ｆ） | H8: （Ｇ）
A9: =IF('1別紙3'!A7=0,"",'1別紙3'!A7) | B9: 円 | C9: 円 | D9: 円 | E9: 円 | F9: 円 | G9: 円 | H9: 円
D10: =IF(B10="","",B10-C10) | E10: ='1別紙2-1'!C11 -> 0 | F10: =IF('1別紙2-1'!C10="","",'1別紙2-1'!C10*10000) -> 0 | G10: =IF(E10="","",MIN(E10,F10)) -> 0 | H10: =IF(D10="","",ROUNDDOWN(MIN(D10,G10)/3,-3))
A12: （注）１ Ａ欄は、当該事業に係る部分のみを記入すること。
A13: ２ Ｄ欄は、当該年度の分娩手当支給（見込）額の総額を記入すること。
A14: ３ Ｅ欄は、10,000円に分娩取扱（見込）件数を乗じた額を記入すること。
A15: ４ Ｆ欄は、Ｄ欄の額とＥ欄の額とを比較して少ない方の額を記入すること。
A16: ５ Ｇ欄は、Ｃ欄の額とＦ欄の額とを比較して少ない方の額に、３分の１を乗じて得た額を記入すること。ただし、算定された額に
A17: 1,000円未満の端数を生じた場合は、これを切り捨てるものとする。

Sheet 1別紙2-1
A1: 別紙２－１
A2: 産科医等確保支援事業計画書
B6: 分娩施設の名称 | C6: ='1別紙3'!A7 -> 0
B7: 区分 | C7: 病院
B8: 一般的な分娩費用 | C8: ='1別紙3'!F7 -> 0
B9: 分娩手当等の支給対象者 及び１分娩当たり単価 | C9: 産科医：８千円（異常分娩１万円） 助産師：８千円
B10: 分娩取扱見込件数 | C10: ='1別紙2-2'!N8 -> 0
B11: 分娩手当支給見込額 | C11: ='1別紙2-2'!N35 -> 0
B14: 注１）一般的な分娩費用について ・正常分娩1分娩あたりの入院から退院までに一般的に分娩費用として徴収する額を記載する。 ※妊産婦が任意に選択できる記念品、特別料理等については、これに含めない。 注２）分娩取扱見込件数について ・４月１日～翌年３月３１日までの間で支払われる分娩手当に係る分娩件数の見込みを記載すること。 ・異常分娩しか手当の支給対象としていない場合などは、正常分娩の件数は含めないこと。 ・双子の場合は２件で計上して差し支えない。ただし、対象経費には実際に分娩施設での支給方法に応じて計上すること。（実際に１件分しか支給しない場合は、対象経費を２倍としないこと。） ・１回の分娩を複数の医療従事者で取り扱った場合でも１件として計上する。 注３）分娩手当等の支給対象者及び１分娩当たり単価について ・分娩手当等の支給対象とする者と、その支給単価について記載すること。 ・正常分娩と異常分娩で単価が変わる場合などは全て記載すること。枠内に入らない場合は給与規程等の添付でも可｡ （記入例１）産科医：10,000円 （記入例２）産科医：正常分娩10,000円、帝王切開15,000円 （記入例３）助産師：5,000円 注４）分娩手当等支給見込額について ・産科医等に支給される分娩手当等の年間見込額を記載する。 ※産科医・産婦人科医及び助産師以外に支給される手当は含めないこと。

Sheet 1別紙2-2
B1: 別紙２－２
B2: 産科医等確保支援事業計画書（内訳書）
K3: 施設名 | L3: ='1別紙3'!A7 -> 0
B5: 分娩件数
D7: 4月 | E7: 5月 | F7: 6月 | G7: 7月 | H7: 8月 | I7: 9月 | J7: 10月 | K7: 11月 | L7: 4月～11月 実績 計（A） | M7: 12月～３月 見込件数 （B=A÷2） | N7: 合計（A＋B）
B8: 分娩件数（見込） 計 | L8: =SUM(D8:K8) -> 0 | M8: =L14/2 -> 0 | N8: =SUM(L8:M8) -> 0
B11: 分娩手当支給額
B13: 職種 （産科医／助産師） | C13: 氏名 | D13: 4月 | E13: 5月 | F13: 6月 | G13: 7月 | H13: 8月 | I13: 9月 | J13: 10月 | K13: 11月 | L13: 4月～11月 実績 計（A’） | M13: 12月～３月 支給見込額 （B’=A'÷２）） | N13: 合計（A'+B')
L14: =SUM(D14:K14) -> 0 | M14: =L14/2 -> 0 | N14: =SUM(L14:M14) -> 0
L15: =SUM(D15:K15) -> 0 | M15: =L15/2 -> 0 | N15: =SUM(L15:M15) -> 0
L16: =SUM(D16:K16) -> 0 | M16: =L16/2 -> 0 | N16: =SUM(L16:M16) -> 0
L17: =SUM(D17:K17) -> 0 | M17: =L17/2 -> 0 | N17: =SUM(L17:M17) -> 0
L18: =SUM(D18:K18) -> 0 | M18: =L18/2 -> 0 | N18: =SUM(L18:M18) -> 0
L19: =SUM(D19:K19) -> 0 | M19: =L19/2 -> 0 | N19: =SUM(L19:M19) -> 0
L20: =SUM(D20:K20) -> 0 | M20: =L20/2 -> 0 | N20: =SUM(L20:M20) -> 0
L21: =SUM(D21:K21) -> 0 | M21: =L21/2 -> 0 | N21: =SUM(L21:M21) -> 0
L22: =SUM(D22:K22) -> 0 | M22: =L22/2 -> 0 | N22: =SUM(L22:M22) -> 0
L23: =SUM(D23:K23) -> 0 | M23: =L23/2 -> 0 | N23: =SUM(L23:M23) -> 0
L24: =SUM(D24:K24) -> 0 | M24: =L24/2 -> 0 | N24: =SUM(L24:M24) -> 0
L25: =SUM(D25:K25) -> 0 | M25: =L25/2 -> 0 | N25: =SUM(L25:M25) -> 0
... L34: =SUM(D34:K34) -> 0 | M34: =L34/2 -> 0 | N34: =SUM(L34:M34) -> 0
B35: 分娩手当支給額（見込） 計 | D35: =SUM(D14:D34) -> 0 | E35: =SUM(E14:E34) -> 0 | F35: =SUM(F14:F34) -> 0 | G35: =SUM(G14:G34) -> 0 | H35: =SUM(H14:H34) -> 0 | I35: =SUM(I14:I34) -> 0 | J35: =SUM(J14:J34) -> 0 | K35: =SUM(K14:K34) -> 0 | L35: =SUM(D35:K35) -> 0 | M35: =SUM(M14:M34) -> 0 | N35: =SUM(L35:M35) -> 0
C37: 注１）分娩手当等を支給した者毎に、年度間の支給総額を記載する。記入欄が足りない場合は、適宜、行を追加すること。
C38: 注２）産科医及び助産師以外に支給した手当は含めないこと。
C39: 注３）産科医又は助産師を雇用している場合、開設者は、この被雇用者に対する支給相当額を計上して差し支えない。
C40: なお、産科医又は助産師を雇用している場合、この被雇用者に手当の支給がなければ、開設者は補助対象とならない。
C41: 注４）１２月～翌年３月の支給見込みについて
C42: 原則として、４月～１１月の支給実績のそれぞれ２分の１で見込むものとする。
C43: （端数の処理は、分娩件数は小数点第１位を切り上げ、手当支給額は、千円未満を切り上げすること。）
C44: ただし、その値が、過去の実績又は具体的な分娩の取扱い見込みに比べて過小又は著しく過大であると考えられる場合には、
C45: 独自の方法により見込んだ件数、手当支給額を計上して差し支えない。
C47: 上記のとおり相違ありません。
C48: 記載内容が事実と相違する、あるいは交付要件に該当しなくなり、交付を受けた補助金の返納が生じることとなった場合は、補助金を返納します。
C50: 令和８年１２月７日
... C54: 代表者氏名

Sheet 1別紙3
A1: 別紙３
A3: 分娩費用（正常分娩）内訳表
F5: 単位：円
A6: 施設名 | B6: 分娩（管理・介助）料 | C6: 入院費用 | D6: 胎盤処理料 | E6: 処置・注射・検査料等 | F6: 分娩費用合計
F7: =SUM(B7:E7) -> 0
A9: （注）１ 一分娩当たりの費用を記入すること。なお、一般的に入院から退院までの分娩費用として徴収する金額を記入するものとし、妊産婦が
A10: 任意で選択できる付加サービス料等については含めないこと。
A11: ２ 欄に記入しきれない場合には、費用の内訳がわかる資料の添付に代えて差し支えない。
A12: ３ 産科医療補償料、新生児管理保育料、出生証明書作成費用は「処置・注射・検査料等」に含まれます。
A13: ４ 市町村が補助事業者である場合、１施設１行として記入すること。

Sheet 1別紙4
A1: 別紙４
B2: 誓 約 書
AA3: 令和８年１２月７日
B5: 福岡県知事 殿
S7: 所在地
S9: 名称
S11: 代表者氏名
A14: 福岡県産科医等確保支援事業費補助金の交付申請に当たり、申請者及び下記の役員等(申請者の役員及び当該補助金の交付に係る施設の管理者をいいます。以下同じ。）は、下記のことを誓約します。
A17: この誓約の内容と事実が反することが判明した場合は、当該事実に関して福岡県が行う一切の措置に対して異議の申立てを行いません。
A19: また、福岡県産科医等確保支援事業費補助金の交付決定後にこの誓約の内容と事実が反することが判明し、交付決定の全部又は一部が取り消された場合には、福岡県に対し、当該補助金の全部又は一部を返還します。
B22: なお、この誓約書の内容について、福岡県が福岡県警察本部に照会することを承諾します。
A24: 記
A26: 1 | B26: 申請者は、暴力団による不当な行為の防止等に関する法律(平成３年法律第７７号。以下「法」という。）第２条第２号に規定する暴力団ではありません。
A29: 2 | B29: 申請者は、法第２条第６号に規定する暴力団員が役員等になっている団体ではありません。
A31: 3 | B31: 申請者は、暴力団員でなくなった日から５年を経過しない者が役員等になっている団体ではありません。
A33: 4 | B33: 申請者及び申請者の役員等は、次に掲げる暴力団又は暴力団員と密接な関係を有する団体ではありません。
A35: （１） | C35: 暴力団員が事業主又は役員に就任している団体
A36: （２） | C36: 暴力団員が実質的に運営している団体
A37: （３） | C37: 暴力団員であることを知りながら、その者を雇用し、又は使用している団体
A38: （４） | C38: 契約の相手方が暴力団員であることを知りながら、その者と商取引に係る契約を締結している団体
A40: （５） | C40: 暴力団又は暴力団員に対して経済上の利益又は便宜を供与している団体
A41: （６） | C41: 暴力団又は暴力団員と社会的に非難される関係を有している団体
A43: 5 | B43: 申請者が実施する事業(事業の準備を含む。）により暴力団を利することとならないようにするとともに、県が実施する暴力団の排除に関する施策に協力します。
A46: 6 | B46: 上記のほか、関係法令を遵守するとともに、暴力団の排除を推進し、県民の安全で平穏な生活の確保及び福岡県における社会経済活動の健全な発展に寄与します。
A49: 役 員 一 覧
B51: 役職名 | H51: (ふ り が な） | R51: 性別 | W51: 住 所 | AB51: 生年月日
G52: 氏 名 | W52: (都道府県名）
H53: （ | P53: ） | AB53: 明 ・ 大 ・ 昭 ・ 平 ・ 令
S54: 男 | T54: ・ | U54: 女
AD55: 年 | AG55: 月 | AJ55: 日
H56: （ | P56: ） | AB56: 明 ・ 大 ・ 昭 ・ 平 ・ 令
S57: 男 | T57: ・ | U57: 女
AD58: 年 | AG58: 月 | AJ58: 日
B59: ※役員全員を記載すること
B61: 役職名 | H61: (ふ り が な） | R61: 性別 | W61: 住 所 | AB61: 生年月日
G62: 氏 名 | W62: (都道府県名）
H63: （ | P63: ） | AB63: 明 ・ 大 ・ 昭 ・ 平 ・ 令
S64: 男 | T64: ・ | U64: 女
AD65: 年 | AG65: 月 | AJ65: 日
H66: （ | P66: ） | AB66: 明 ・ 大 ・ 昭 ・ 平 ・ 令
...
