Workbook

Sheet 月報(日本人)
B2: 住民基本台帳【日本人住民】 | E2: =[1]住基作成!E2 -> 令和6年2月末日現在
B6: 区分 | C6: 人 口 | F6: 世帯数 | G6: 前月 | H6: 前月 | I6: 前月 | J6: 前月
B7: 市区町村名 | C7: 男 | D7: 女 | E7: 計 | G7: 人口数 | H7: 世帯数 | I7: 人口増減 | J7: 世帯増減
B8: 北九州市 | C8: 427561 | D8: 475259 | E8: 902820 | F8: 472598 | G8: 904057 | H8: 473044 | I8: -1237 | J8: -446
B9: 門司区 | C9: 41861 | D9: 48901 | E9: 90762 | F9: 47934 | G9: 90936 | H9: 47983 | I9: -174 | J9: -49
B10: 若松区 | C10: 37231 | D10: 40796 | E10: 78027 | F10: 38779 | G10: 78179 | H10: 38834 | I10: -152 | J10: -55
B11: 戸畑区 | C11: 25948 | D11: 28237 | E11: 54185 | F11: 28893 | G11: 54260 | H11: 28946 | I11: -75 | J11: -53
B12: 小倉北区 | C12: 81395 | D12: 91126 | E12: 172521 | F12: 99316 | G12: 172680 | H12: 99343 | I12: -159 | J12: -27
B13: 小倉南区 | C13: 97232 | D13: 106162 | E13: 203394 | F13: 102056 | G13: 203659 | H13: 102159 | I13: -265 | J13: -103
B14: 八幡東区 | C14: 29119 | D14: 32619 | E14: 61738 | F14: 33362 | G14: 61879 | H14: 33435 | I14: -141 | J14: -73
B15: 八幡西区 | C15: 114775 | D15: 127418 | E15: 242193 | F15: 122258 | G15: 242464 | H15: 122344 | I15: -271 | J15: -86
B16: 福岡市 | C16: 731633 | D16: 817651 | E16: 1549284 | F16: 825414 | G16: 1549066 | H16: 825047 | I16: 218 | J16: 367
B17: 東区 | C17: 151798 | D17: 161849 | E17: 313647 | F17: 159756 | G17: 313330 | H17: 159531 | I17: 317 | J17: 225
B18: 博多区 | C18: 111549 | D18: 119628 | E18: 231177 | F18: 144118 | G18: 231225 | H18: 144125 | I18: -48 | J18: -7
B19: 中央区 | C19: 86032 | D19: 107401 | E19: 193433 | F19: 118787 | G19: 193380 | H19: 118726 | I19: 53 | J19: 61
... B84: 県計 | C84: 2372043 | D84: 2618099 | E84: 4990142 | F84: 2467041 | G84: 4993095 | H84: 2467050 | I84: -2953 | J84: -9

Sheet 月報(外国人) 
B2: 住民基本台帳【外国人住民】 | E2: 令和6年2月末日現在
B6: 区分 | C6: 人 口 | F6: 世帯数 | G6: 前月 | H6: 前月 | I6: 前月 | J6: 前月
B7: 市区町村名 | C7: 男 | D7: 女 | E7: 計 | G7: 人口数 | H7: 世帯数 | I7: 人口増減 | J7: 世帯増減
B8: 北九州市 | C8: 8664 | D8: 7248 | E8: 15912 | F8: 11584 | G8: 15930 | H8: 11622 | I8: -18 | J8: -38
B9: 門司区 | C9: 682 | D9: 509 | E9: 1191 | F9: 815 | G9: 1171 | H9: 799 | I9: 20 | J9: 16
B10: 若松区 | C10: 1073 | D10: 557 | E10: 1630 | F10: 1341 | G10: 1636 | H10: 1346 | I10: -6 | J10: -5
B11: 戸畑区 | C11: 464 | D11: 384 | E11: 848 | F11: 578 | G11: 841 | H11: 577 | I11: 7 | J11: 1
B12: 小倉北区 | C12: 2620 | D12: 2532 | E12: 5152 | F12: 3641 | G12: 5201 | H12: 3691 | I12: -49 | J12: -50
B13: 小倉南区 | C13: 1083 | D13: 937 | E13: 2020 | F13: 1454 | G13: 2008 | H13: 1443 | I13: 12 | J13: 11
B14: 八幡東区 | C14: 678 | D14: 531 | E14: 1209 | F14: 958 | G14: 1244 | H14: 996 | I14: -35 | J14: -38
B15: 八幡西区 | C15: 2064 | D15: 1798 | E15: 3862 | F15: 2797 | G15: 3829 | H15: 2770 | I15: 33 | J15: 27
B16: 福岡市 | C16: 23669 | D16: 21207 | E16: 44876 | F16: 31687 | G16: 44830 | H16: 31746 | I16: 46 | J16: -59
B17: 東区 | C17: 6525 | D17: 5933 | E17: 12458 | F17: 8282 | G17: 12459 | H17: 8332 | I17: -1 | J17: -50
B18: 博多区 | C18: 5705 | D18: 5362 | E18: 11067 | F18: 8432 | G18: 11060 | H18: 8445 | I18: 7 | J18: -13
B19: 中央区 | C19: 3095 | D19: 2691 | E19: 5786 | F19: 4248 | G19: 5738 | H19: 4201 | I19: 48 | J19: 47
... B84: 県計 | C84: 51551 | D84: 46904 | E84: 98455 | F84: 71751 | G84: 98475 | H84: 71949 | I84: -20 | J84: -198

Sheet 月報(合計)
B2: 住民基本台帳【合計】 | D2: ='月報(日本人)'!E2 -> 令和6年2月末日現在
B6: 区分 | C6: 人 口 | F6: 世帯数 | G6: 前月 | H6: 前月 | I6: 前月 | J6: 前月
B7: 市区町村名 | C7: 男 | D7: 女 | E7: 計 | G7: 人口数 | H7: 世帯数 | I7: 人口増減 | J7: 世帯増減
B8: 北九州市 | C8: ='月報(日本人)'!C8+'月報(外国人) '!C8 -> 436225 | D8: ='月報(日本人)'!D8+'月報(外国人) '!D8 -> 482507 | E8: ='月報(日本人)'!E8+'月報(外国人) '!E8 -> 918732 | F8: ='月報(日本人)'!F8+'月報(外国人) '!F8 -> 484182 | G8: ='月報(日本人)'!G8+'月報(外国人) '!G8 -> 919987 | H8: ='月報(日本人)'!H8+'月報(外国人) '!H8 -> 484666 | I8: ='月報(日本人)'!I8+'月報(外国人) '!I8 -> -1255 | J8: ='月報(日本人)'!J8+'月報(外国人) '!J8 -> -484
B9: 門司区 | C9: ='月報(日本人)'!C9+'月報(外国人) '!C9 -> 42543 | D9: ='月報(日本人)'!D9+'月報(外国人) '!D9 -> 49410 | E9: ='月報(日本人)'!E9+'月報(外国人) '!E9 -> 91953 | F9: ='月報(日本人)'!F9+'月報(外国人) '!F9 -> 48749 | G9: ='月報(日本人)'!G9+'月報(外国人) '!G9 -> 92107 | H9: ='月報(日本人)'!H9+'月報(外国人) '!H9 -> 48782 | I9: ='月報(日本人)'!I9+'月報(外国人) '!I9 -> -154 | J9: ='月報(日本人)'!J9+'月報(外国人) '!J9 -> -33
B10: 若松区 | C10: ='月報(日本人)'!C10+'月報(外国人) '!C10 -> 38304 | D10: ='月報(日本人)'!D10+'月報(外国人) '!D10 -> 41353 | E10: ='月報(日本人)'!E10+'月報(外国人) '!E10 -> 79657 | F10: ='月報(日本人)'!F10+'月報(外国人) '!F10 -> 40120 | G10: ='月報(日本人)'!G10+'月報(外国人) '!G10 -> 79815 | H10: ='月報(日本人)'!H10+'月報(外国人) '!H10 -> 40180 | I10: ='月報(日本人)'!I10+'月報(外国人) '!I10 -> -158 | J10: ='月報(日本人)'!J10+'月報(外国人) '!J10 -> -60
B11: 戸畑区 | C11: ='月報(日本人)'!C11+'月報(外国人) '!C11 -> 26412 | D11: ='月報(日本人)'!D11+'月報(外国人) '!D11 -> 28621 | E11: ='月報(日本人)'!E11+'月報(外国人) '!E11 -> 55033 | F11: ='月報(日本人)'!F11+'月報(外国人) '!F11 -> 29471 | G11: ='月報(日本人)'!G11+'月報(外国人) '!G11 -> 55101 | H11: ='月報(日本人)'!H11+'月報(外国人) '!H11 -> 29523 | I11: ='月報(日本人)'!I11+'月報(外国人) '!I11 -> -68 | J11: ='月報(日本人)'!J11+'月報(外国人) '!J11 -> -52
B12: 小倉北区 | C12: ='月報(日本人)'!C12+'月報(外国人) '!C12 -> 84015 | D12: ='月報(日本人)'!D12+'月報(外国人) '!D12 -> 93658 | E12: ='月報(日本人)'!E12+'月報(外国人) '!E12 -> 177673 | F12: ='月報(日本人)'!F12+'月報(外国人) '!F12 -> 102957 | G12: ='月報(日本人)'!G12+'月報(外国人) '!G12 -> 177881 | H12: ='月報(日本人)'!H12+'月報(外国人) '!H12 -> 103034 | I12: ='月報(日本人)'!I12+'月報(外国人) '!I12 -> -208 | J12: ='月報(日本人)'!J12+'月報(外国人) '!J12 -> -77
B13: 小倉南区 | C13: ='月報(日本人)'!C13+'月報(外国人) '!C13 -> 98315 | D13: ='月報(日本人)'!D13+'月報(外国人) '!D13 -> 107099 | E13: ='月報(日本人)'!E13+'月報(外国人) '!E13 -> 205414 | F13: ='月報(日本人)'!F13+'月報(外国人) '!F13 -> 103510 | G13: ='月報(日本人)'!G13+'月報(外国人) '!G13 -> 205667 | H13: ='月報(日本人)'!H13+'月報(外国人) '!H13 -> 103602 | I13: ='月報(日本人)'!I13+'月報(外国人) '!I13 -> -253 | J13: ='月報(日本人)'!J13+'月報(外国人) '!J13 -> -92
B14: 八幡東区 | C14: ='月報(日本人)'!C14+'月報(外国人) '!C14 -> 29797 | D14: ='月報(日本人)'!D14+'月報(外国人) '!D14 -> 33150 | E14: ='月報(日本人)'!E14+'月報(外国人) '!E14 -> 62947 | F14: ='月報(日本人)'!F14+'月報(外国人) '!F14 -> 34320 | G14: ='月報(日本人)'!G14+'月報(外国人) '!G14 -> 63123 | H14: ='月報(日本人)'!H14+'月報(外国人) '!H14 -> 34431 | I14: ='月報(日本人)'!I14+'月報(外国人) '!I14 -> -176 | J14: ='月報(日本人)'!J14+'月報(外国人) '!J14 -> -111
B15: 八幡西区 | C15: ='月報(日本人)'!C15+'月報(外国人) '!C15 -> 116839 | D15: ='月報(日本人)'!D15+'月報(外国人) '!D15 -> 129216 | E15: ='月報(日本人)'!E15+'月報(外国人) '!E15 -> 246055 | F15: ='月報(日本人)'!F15+'月報(外国人) '!F15 -> 125055 | G15: ='月報(日本人)'!G15+'月報(外国人) '!G15 -> 246293 | H15: ='月報(日本人)'!H15+'月報(外国人) '!H15 -> 125114 | I15: ='月報(日本人)'!I15+'月報(外国人) '!I15 -> -238 | J15: ='月報(日本人)'!J15+'月報(外国人) '!J15 -> -59
B16: 福岡市 | C16: ='月報(日本人)'!C16+'月報(外国人) '!C16 -> 755302 | D16: ='月報(日本人)'!D16+'月報(外国人) '!D16 -> 838858 | E16: ='月報(日本人)'!E16+'月報(外国人) '!E16 -> 1594160 | F16: ='月報(日本人)'!F16+'月報(外国人) '!F16 -> 857101 | G16: ='月報(日本人)'!G16+'月報(外国人) '!G16 -> 1593896 | H16: ='月報(日本人)'!H16+'月報(外国人) '!H16 -> 856793 | I16: ='月報(日本人)'!I16+'月報(外国人) '!I16 -> 264 | J16: ='月報(日本人)'!J16+'月報(外国人) '!J16 -> 308
B17: 東区 | C17: ='月報(日本人)'!C17+'月報(外国人) '!C17 -> 158323 | D17: ='月報(日本人)'!D17+'月報(外国人) '!D17 -> 167782 | E17: ='月報(日本人)'!E17+'月報(外国人) '!E17 -> 326105 | F17: ='月報(日本人)'!F17+'月報(外国人) '!F17 -> 168038 | G17: ='月報(日本人)'!G17+'月報(外国人) '!G17 -> 325789 | H17: ='月報(日本人)'!H17+'月報(外国人) '!H17 -> 167863 | I17: ='月報(日本人)'!I17+'月報(外国人) '!I17 -> 316 | J17: ='月報(日本人)'!J17+'月報(外国人) '!J17 -> 175
B18: 博多区 | C18: ='月報(日本人)'!C18+'月報(外国人) '!C18 -> 117254 | D18: ='月報(日本人)'!D18+'月報(外国人) '!D18 -> 124990 | E18: ='月報(日本人)'!E18+'月報(外国人) '!E18 -> 242244 | F18: ='月報(日本人)'!F18+'月報(外国人) '!F18 -> 152550 | G18: ='月報(日本人)'!G18+'月報(外国人) '!G18 -> 242285 | H18: ='月報(日本人)'!H18+'月報(外国人) '!H18 -> 152570 | I18: ='月報(日本人)'!I18+'月報(外国人) '!I18 -> -41 | J18: ='月報(日本人)'!J18+'月報(外国人) '!J18 -> -20
B19: 中央区 | C19: ='月報(日本人)'!C19+'月報(外国人) '!C19 -> 89127 | D19: ='月報(日本人)'!D19+'月報(外国人) '!D19 -> 110092 | E19: ='月報(日本人)'!E19+'月報(外国人) '!E19 -> 199219 | F19: ='月報(日本人)'!F19+'月報(外国人) '!F19 -> 123035 | G19: ='月報(日本人)'!G19+'月報(外国人) '!G19 -> 199118 | H19: ='月報(日本人)'!H19+'月報(外国人) '!H19 -> 122927 | I19: ='月報(日本人)'!I19+'月報(外国人) '!I19 -> 101 | J19: ='月報(日本人)'!J19+'月報(外国人) '!J19 -> 108
... B84: 県計 | C84: ='月報(日本人)'!C84+'月報(外国人) '!C84 -> 2423594 | D84: ='月報(日本人)'!D84+'月報(外国人) '!D84 -> 2665003 | E84: ='月報(日本人)'!E84+'月報(外国人) '!E84 -> 5088597 | F84: ='月報(日本人)'!F84+'月報(外国人) '!F84 -> 2538792 | G84: ='月報(日本人)'!G84+'月報(外国人) '!G84 -> 5091570 | H84: ='月報(日本人)'!H84+'月報(外国人) '!H84 -> 2538999 | I84: ='月報(日本人)'!I84+'月報(外国人) '!I84 -> -2973 | J84: ='月報(日本人)'!J84+'月報(外国人) '!J84 -> -207
